BEGIN:VCALENDAR
VERSION:2.0
PRODID:-//Degrowth Vienna - ECPv6.15.14//NONSGML v1.0//EN
CALSCALE:GREGORIAN
METHOD:PUBLISH
X-ORIGINAL-URL:https://www.degrowthvienna.org
X-WR-CALDESC:Veranstaltungen für Degrowth Vienna
REFRESH-INTERVAL;VALUE=DURATION:PT1H
X-Robots-Tag:noindex
X-PUBLISHED-TTL:PT1H
BEGIN:VTIMEZONE
TZID:Europe/Vienna
BEGIN:DAYLIGHT
TZOFFSETFROM:+0100
TZOFFSETTO:+0200
TZNAME:CEST
DTSTART:20220327T010000
END:DAYLIGHT
BEGIN:STANDARD
TZOFFSETFROM:+0200
TZOFFSETTO:+0100
TZNAME:CET
DTSTART:20221030T010000
END:STANDARD
BEGIN:DAYLIGHT
TZOFFSETFROM:+0100
TZOFFSETTO:+0200
TZNAME:CEST
DTSTART:20230326T010000
END:DAYLIGHT
BEGIN:STANDARD
TZOFFSETFROM:+0200
TZOFFSETTO:+0100
TZNAME:CET
DTSTART:20231029T010000
END:STANDARD
BEGIN:DAYLIGHT
TZOFFSETFROM:+0100
TZOFFSETTO:+0200
TZNAME:CEST
DTSTART:20240331T010000
END:DAYLIGHT
BEGIN:STANDARD
TZOFFSETFROM:+0200
TZOFFSETTO:+0100
TZNAME:CET
DTSTART:20241027T010000
END:STANDARD
END:VTIMEZONE
BEGIN:VEVENT
DTSTART;VALUE=DATE:20230829
DTEND;VALUE=DATE:20230903
DTSTAMP:20260419T192443
CREATED:20230510T101418Z
LAST-MODIFIED:20240527T152620Z
UID:16372-1693267200-1693699199@www.degrowthvienna.org
SUMMARY:Degrowth Vienna Workshop @ 9th International Degrowth Conference
DESCRIPTION:We from Degrowth Vienna will be holding a workshop on „Degrowth and basic provisioning“ at the 9th International Degrowth Conference\, that will take place Aug 29 – Sep 2\, 2023 in Zagreb\, Croatia. \nGet your ticket here!\nMore infos tbd. \nGefördert von der Stadt Wien Kultur
URL:https://www.degrowthvienna.org/event/degrowth-vienna-workshop-9th-international-degrowth-conference/
LOCATION:Zagreb\, Zagreb\, Kroatien (Lokaler Name: Hrvatska)
ATTACH;FMTTYPE=image/jpeg:https://www.degrowthvienna.org/wp-content/uploads/2023/05/DegrowthConference.jpg
END:VEVENT
END:VCALENDAR