BEGIN:VCALENDAR
VERSION:2.0
PRODID:-//Degrowth Vienna - ECPv6.15.14//NONSGML v1.0//EN
CALSCALE:GREGORIAN
METHOD:PUBLISH
X-ORIGINAL-URL:https://www.degrowthvienna.org
X-WR-CALDESC:Veranstaltungen für Degrowth Vienna
REFRESH-INTERVAL;VALUE=DURATION:PT1H
X-Robots-Tag:noindex
X-PUBLISHED-TTL:PT1H
BEGIN:VTIMEZONE
TZID:Europe/Vienna
BEGIN:DAYLIGHT
TZOFFSETFROM:+0100
TZOFFSETTO:+0200
TZNAME:CEST
DTSTART:20220327T010000
END:DAYLIGHT
BEGIN:STANDARD
TZOFFSETFROM:+0200
TZOFFSETTO:+0100
TZNAME:CET
DTSTART:20221030T010000
END:STANDARD
BEGIN:DAYLIGHT
TZOFFSETFROM:+0100
TZOFFSETTO:+0200
TZNAME:CEST
DTSTART:20230326T010000
END:DAYLIGHT
BEGIN:STANDARD
TZOFFSETFROM:+0200
TZOFFSETTO:+0100
TZNAME:CET
DTSTART:20231029T010000
END:STANDARD
BEGIN:DAYLIGHT
TZOFFSETFROM:+0100
TZOFFSETTO:+0200
TZNAME:CEST
DTSTART:20240331T010000
END:DAYLIGHT
BEGIN:STANDARD
TZOFFSETFROM:+0200
TZOFFSETTO:+0100
TZNAME:CET
DTSTART:20241027T010000
END:STANDARD
END:VTIMEZONE
BEGIN:VEVENT
DTSTART;TZID=Europe/Vienna:20230602T090000
DTEND;TZID=Europe/Vienna:20230603T163000
DTSTAMP:20260419T225259
CREATED:20230419T133045Z
LAST-MODIFIED:20240527T152932Z
UID:16345-1685696400-1685809800@www.degrowthvienna.org
SUMMARY:Degrowth Vienna beim SOL Symposium
DESCRIPTION:Der Verein SOL veranstaltet seit über 20 Jahren jährlich ein Symposium zu einem aktuellen Schwerpunktthema. Das SOL-Symposium 2023 findet von Fr.\, 2. – Sa.\, 3. Juni in Wien zum Thema „Ich habe genug“ statt.\n \nWir von Degrowth Vienna werden auch inhaltlich einen Block gestalten. Weitere Details findest du auf der Webseite des SOL Symposiums.  \nEine Anmeldung zum Event ist erforderlich. \nDegrowth Vienna wird gefördert von der Stadt Wien Kultur
URL:https://www.degrowthvienna.org/event/degrowth-vienna-beim-sol-symposium/
LOCATION:WEST – Alte WU\, Augasse 2-6\, Wien\, Wien\, 1090\, Österreich
END:VEVENT
BEGIN:VEVENT
DTSTART;TZID=Europe/Vienna:20230603T140000
DTEND;TZID=Europe/Vienna:20230603T160000
DTSTAMP:20260419T225259
CREATED:20230531T065512Z
LAST-MODIFIED:20240527T152845Z
UID:16514-1685800800-1685808000@www.degrowthvienna.org
SUMMARY:Degrowth Picnic on International Degrowth Day
DESCRIPTION:Degrowth Picnic – International Degrowth Day \nLet’s celebrate together! \nDo you want to know what degrowth is all about? Connect with other degrowthers? Simply enjoy a picnic with a bunch of kind people? \nModul University (wsw)\, Sustainability Committee and Degrowth Vienna invite you to join our degrowth picnic this Saturday. Bring your favourite drinks\, snacks and people! \nDegrowth introduction workshop at 4pm next to the picnic. \nWhen: 3.6.2023 from 2pm \nWhere: Altes AKH\, Hof 2\, close to the Südwind Straßenfest \nGefördert von der Stadt Wien Kultur
URL:https://www.degrowthvienna.org/event/degrowth-picnic-on-international-degrowth-day/
LOCATION:Altes AKH\, Spitalgasse 2\, Wien\, Wien\, 1090\, Österreich
ATTACH;FMTTYPE=image/jpeg:https://www.degrowthvienna.org/wp-content/uploads/2023/05/Degrowth-Picnic_2023.jpg
ORGANIZER;CN="Degrowth Vienna":MAILTO:info@degrowthvienna.org
END:VEVENT
BEGIN:VEVENT
DTSTART;VALUE=DATE:20230604
DTEND;VALUE=DATE:20230612
DTSTAMP:20260419T225259
CREATED:20230419T132257Z
LAST-MODIFIED:20240527T152804Z
UID:16340-1685836800-1686527999@www.degrowthvienna.org
SUMMARY:Degrowth Vienna beim Klimacamp Wien
DESCRIPTION:Das diesjährige Klimacamp findet vom 4. bis 11. Juni 2023 in Lichtenwörth bei Wiener Neustadt statt um die Proteste gegen die geplante “Ostumfahrung” zu unterstützen. Wie jedes Jahr wird es verschiedene Formate umfassen\, um sich auszutauschen\, zu vernetzen und die vorherrschenden unsozialen und klimaschädlichen Strukturen gemeinsam zu hinterfragen. \nWir von Degrowth Vienna werden einen Workshop halten – weitere Details dazu findest du bald hier. \nDegrowth Vienna wird gefördert von der Stadt Wien Kultur
URL:https://www.degrowthvienna.org/event/degrowth-vienna-beim-klimacamp-wien/
LOCATION:Klimacamp Wien\, Lichtenwörth\, Österreich
ATTACH;FMTTYPE=image/jpeg:https://www.degrowthvienna.org/wp-content/uploads/2022/07/Group-photo-summerschool-scaled.jpeg
END:VEVENT
END:VCALENDAR