BEGIN:VCALENDAR
VERSION:2.0
PRODID:-//Degrowth Vienna - ECPv6.15.14//NONSGML v1.0//EN
CALSCALE:GREGORIAN
METHOD:PUBLISH
X-ORIGINAL-URL:https://www.degrowthvienna.org
X-WR-CALDESC:Veranstaltungen für Degrowth Vienna
REFRESH-INTERVAL;VALUE=DURATION:PT1H
X-Robots-Tag:noindex
X-PUBLISHED-TTL:PT1H
BEGIN:VTIMEZONE
TZID:Europe/Vienna
BEGIN:DAYLIGHT
TZOFFSETFROM:+0100
TZOFFSETTO:+0200
TZNAME:CEST
DTSTART:20210328T010000
END:DAYLIGHT
BEGIN:STANDARD
TZOFFSETFROM:+0200
TZOFFSETTO:+0100
TZNAME:CET
DTSTART:20211031T010000
END:STANDARD
BEGIN:DAYLIGHT
TZOFFSETFROM:+0100
TZOFFSETTO:+0200
TZNAME:CEST
DTSTART:20220327T010000
END:DAYLIGHT
BEGIN:STANDARD
TZOFFSETFROM:+0200
TZOFFSETTO:+0100
TZNAME:CET
DTSTART:20221030T010000
END:STANDARD
BEGIN:DAYLIGHT
TZOFFSETFROM:+0100
TZOFFSETTO:+0200
TZNAME:CEST
DTSTART:20230326T010000
END:DAYLIGHT
BEGIN:STANDARD
TZOFFSETFROM:+0200
TZOFFSETTO:+0100
TZNAME:CET
DTSTART:20231029T010000
END:STANDARD
END:VTIMEZONE
BEGIN:VEVENT
DTSTART;TZID=Europe/Vienna:20221213T180000
DTEND;TZID=Europe/Vienna:20221213T200000
DTSTAMP:20260420T091956
CREATED:20221003T065550Z
LAST-MODIFIED:20221223T124306Z
UID:15957-1670954400-1670961600@www.degrowthvienna.org
SUMMARY:Degrowth & Strategy Fall Reading Circle: Strategies into Practice III
DESCRIPTION:What? A regular space to discuss Degrowth & Strategy wtih authors and editors. Find more infos on the book here.\nWhere? Kulturzentrum 4lthangrund Mensa\, Augasse 2-6\, 1090\, Vienna\nWhen? 18:00-20:00\n\nDecember 13: Strategies into Practice III with Gabriel Trettel Silva\n\n\n\n\n\nDrinks and snacks afterwards! \nRegistration required\, please register here. \n  \n \nThis event has been supported by Wien Kultur and the European Union (Erasmus+). \n  \n  \nKulturzentrum 4lthangrund – Alte WU\, Augasse 2-6\, 1090 Wien\nWolke = Kern C\, 4. Stock\nHütte = in front of the building close to the stairs before the main entrance\nMensa = big building on the right hand side (looking at the main entrance) of the Hütte \nDirections: https://www.4lthangrund.jetzt/zugang-zu-4lthangrund/\nlow barrier entrance + barrier free toilets available \nWe recommend wearing FFP2 masks at events inside. People should come tested if possible. In general please only join us if you have no Covid symptoms.
URL:https://www.degrowthvienna.org/event/degrowth-strategy-fall-reading-circle-strategies-into-practice-iii/
LOCATION:Kulturzentrum 4lthangrund\, Augasse 2-6\, Wien\, 1090
ATTACH;FMTTYPE=image/jpeg:https://www.degrowthvienna.org/wp-content/uploads/2022/09/ReadingCircle_cut.jpg
ORGANIZER;CN="Degrowth Vienna":MAILTO:info@degrowthvienna.org
END:VEVENT
BEGIN:VEVENT
DTSTART;TZID=Europe/Vienna:20221213T200000
DTEND;TZID=Europe/Vienna:20221213T220000
DTSTAMP:20260420T091956
CREATED:20221123T122003Z
LAST-MODIFIED:20221207T172811Z
UID:16052-1670961600-1670968800@www.degrowthvienna.org
SUMMARY:Winter gathering
DESCRIPTION:After our last reading circle session we like to invite you to a small Degrowth Vienna winter gathering – bring your friends and just drop by. There will be drinks and snacks provided for donation. \n  \nKulturzentrum 4lthangrund – Alte WU\, Augasse 2-6\, 1090 Wien\nWolke = Kern C\, 4. Stock\nHütte = vor dem Gebäude beim Haupteingang alte WU\nMensa = großes Gebäude rechts (blick Richtung Haupteingang) von der Hütte \nDirections: https://www.4lthangrund.jetzt/zugang-zu-4lthangrund/\nlow barrier entrance + barrier free toilets available \nWe recommend wearing FFP2 masks at events inside. People should come tested if possible. In general please only join us if you have no Covid symptoms.
URL:https://www.degrowthvienna.org/event/winter-gathering/
LOCATION:Kulturzentrum 4lthangrund\, Augasse 2-6\, Wien\, 1090
ORGANIZER;CN="Degrowth Vienna":MAILTO:info@degrowthvienna.org
END:VEVENT
END:VCALENDAR