BEGIN:VCALENDAR
VERSION:2.0
PRODID:-//Degrowth Vienna - ECPv6.15.14//NONSGML v1.0//EN
CALSCALE:GREGORIAN
METHOD:PUBLISH
X-ORIGINAL-URL:https://www.degrowthvienna.org
X-WR-CALDESC:Veranstaltungen für Degrowth Vienna
REFRESH-INTERVAL;VALUE=DURATION:PT1H
X-Robots-Tag:noindex
X-PUBLISHED-TTL:PT1H
BEGIN:VTIMEZONE
TZID:Europe/Vienna
BEGIN:DAYLIGHT
TZOFFSETFROM:+0100
TZOFFSETTO:+0200
TZNAME:CEST
DTSTART:20210328T010000
END:DAYLIGHT
BEGIN:STANDARD
TZOFFSETFROM:+0200
TZOFFSETTO:+0100
TZNAME:CET
DTSTART:20211031T010000
END:STANDARD
BEGIN:DAYLIGHT
TZOFFSETFROM:+0100
TZOFFSETTO:+0200
TZNAME:CEST
DTSTART:20220327T010000
END:DAYLIGHT
BEGIN:STANDARD
TZOFFSETFROM:+0200
TZOFFSETTO:+0100
TZNAME:CET
DTSTART:20221030T010000
END:STANDARD
BEGIN:DAYLIGHT
TZOFFSETFROM:+0100
TZOFFSETTO:+0200
TZNAME:CEST
DTSTART:20230326T010000
END:DAYLIGHT
BEGIN:STANDARD
TZOFFSETFROM:+0200
TZOFFSETTO:+0100
TZNAME:CET
DTSTART:20231029T010000
END:STANDARD
END:VTIMEZONE
BEGIN:VEVENT
DTSTART;TZID=Europe/Vienna:20221004T180000
DTEND;TZID=Europe/Vienna:20221004T200000
DTSTAMP:20260424T121509
CREATED:20221003T064606Z
LAST-MODIFIED:20221223T125430Z
UID:15947-1664906400-1664913600@www.degrowthvienna.org
SUMMARY:Degrowth & Strategy Fall Reading Circle: Strategy in Degrowth Research and Activism I
DESCRIPTION:What? A regular space to discuss Degrowth & Strategy wtih authors and editors. Find more infos on the book here.\nWhere? Alte Mensa\, Augasse 2-6\, 1090\, Vienna\nWhen? 18:00-20:00\, every other Tuesday\n\nOctober 4: Strategy in Degrowth Research and Activism I with Nathan Barlow\n\n\nFurther dates:\n\nOct. 18 with Livia Regen\nNov. 1 with Ulrich Brand\nNov. 15 with Corinna Dengler and Lisa Mo Seebacher\nNov 29 with Christina Plank and Mario Diaz\nDec 13 with Gabriel Trettel Silva\n\n\n\n\nDrinks and snacks afterwards! \nRegistration required\, please register here. \n \nThis event has been supported by Wien Kultur and the European Union (Erasmus+). \n 
URL:https://www.degrowthvienna.org/event/degrowth-strategy-fall-reading-circle-strategy-in-degrowth-research-and-activism-i/
LOCATION:Kulturzentrum Alte Mensa\, Augasse 2-6\, Wien\, 1090\, Österreich
ATTACH;FMTTYPE=image/jpeg:https://www.degrowthvienna.org/wp-content/uploads/2022/09/ReadingCircle_cut.jpg
ORGANIZER;CN="Degrowth Vienna":MAILTO:info@degrowthvienna.org
END:VEVENT
BEGIN:VEVENT
DTSTART;TZID=Europe/Vienna:20221018T180000
DTEND;TZID=Europe/Vienna:20221018T200000
DTSTAMP:20260424T121509
CREATED:20221003T064716Z
LAST-MODIFIED:20221223T125435Z
UID:15949-1666116000-1666123200@www.degrowthvienna.org
SUMMARY:Degrowth & Strategy Fall Reading Circle: Strategy in Degrowth Research and Activism II
DESCRIPTION:What? A regular space to discuss Degrowth & Strategy wtih authors and editors. Find more infos on the book here.\nWhere? Alte Mensa\, Augasse 2-6\, 1090\, Vienna\nWhen? 18:00-20:00\, every other Tuesday\n\nOctober 18: Strategy in Degrowth Research and Activism II with Livia Regen\n\n\nFurther dates:\n\nNov. 1 with Ulrich Brand\nNov. 15 with Corinna Dengler and Lisa Mo Seebacher\nNov 29 with Christina Plank and Mario Diaz\nDec 13 with Gabriel Trettel Silva\n\n\n\n\nDrinks and snacks afterwards! \nRegistration required\, please register here. \n \nThis event has been supported by Wien Kultur and the European Union (Erasmus+). \n 
URL:https://www.degrowthvienna.org/event/degrowth-strategy-fall-reading-circle-strategy-in-degrowth-research-and-activism-ii/
LOCATION:Kulturzentrum Alte Mensa\, Augasse 2-6\, Wien\, 1090\, Österreich
ATTACH;FMTTYPE=image/jpeg:https://www.degrowthvienna.org/wp-content/uploads/2022/09/ReadingCircle_cut.jpg
ORGANIZER;CN="Degrowth Vienna":MAILTO:info@degrowthvienna.org
END:VEVENT
BEGIN:VEVENT
DTSTART;TZID=Europe/Vienna:20221020T170000
DTEND;TZID=Europe/Vienna:20221020T183000
DTSTAMP:20260424T121509
CREATED:20221013T094103Z
LAST-MODIFIED:20221013T094215Z
UID:15969-1666285200-1666290600@www.degrowthvienna.org
SUMMARY:Welcome Meeting
DESCRIPTION:Are you motivated to bring forward the social-ecological transformation together with us? Do you wonder what the Degrowth Vienna collective is doing and how you can get involved? \nThen join us for our next welcome meeting! \n  \nPlease register via e-mail to info@degrowthvienna.org. \n**Please come tested\, either with a schnelltest from the same day or a PCR done in the 2 days before** \n  \nOur general working language is English. \nTo find our more about us\, check our homepage and that of our recent publication www.degrowthstrategy.org.
URL:https://www.degrowthvienna.org/event/welcome-meeting-2/
LOCATION:Kulturzentrum Alte Mensa\, Augasse 2-6\, Wien\, 1090\, Österreich
END:VEVENT
BEGIN:VEVENT
DTSTART;TZID=Europe/Vienna:20221027T200000
DTEND;TZID=Europe/Vienna:20221027T213000
DTSTAMP:20260424T121509
CREATED:20221003T063807Z
LAST-MODIFIED:20221003T063807Z
UID:15938-1666900800-1666906200@www.degrowthvienna.org
SUMMARY:Degrowth & Strategy International book launch webinar Part I
DESCRIPTION:Part I: Strategising for degrowth with and within diversity\nIn the weeks leading up to the COP 27 this autumn\, join us for a two-part webinar co-organised with Degrowth Talks. We will celebrate the book’s publication with our international editors\, contributors and readers. For those of you not based in Vienna\, this is your chance to engage with the question of strategy and contribute to the debate. Prepare your questions\, for panel discussions will be followed by Q&As.\nKeep an eye on this page and on Degrowth Vienna’s social media where the links to the two events will soon be shared. \nWhen? October 27th\, 20:00-21:30 CET (online) \nwith \n\nSusan Paulson\nJoe Herbert\nLivia Regen\nMerle Schulken\nmoderated by Oxana Lopatina\n\n–> link to event
URL:https://www.degrowthvienna.org/event/degrowth-strategy-international-book-launch-webinar-part-i/
LOCATION:online\, Österreich
ATTACH;FMTTYPE=image/jpeg:https://www.degrowthvienna.org/wp-content/uploads/2022/10/International-Book-Launch_September30_web_2-e1664779078596.jpg
ORGANIZER;CN="Degrowth Vienna":MAILTO:info@degrowthvienna.org
END:VEVENT
END:VCALENDAR