BEGIN:VCALENDAR
VERSION:2.0
PRODID:-//Degrowth Vienna - ECPv6.15.14//NONSGML v1.0//EN
CALSCALE:GREGORIAN
METHOD:PUBLISH
X-ORIGINAL-URL:https://www.degrowthvienna.org
X-WR-CALDESC:Veranstaltungen für Degrowth Vienna
REFRESH-INTERVAL;VALUE=DURATION:PT1H
X-Robots-Tag:noindex
X-PUBLISHED-TTL:PT1H
BEGIN:VTIMEZONE
TZID:Europe/Vienna
BEGIN:DAYLIGHT
TZOFFSETFROM:+0100
TZOFFSETTO:+0200
TZNAME:CEST
DTSTART:20210328T010000
END:DAYLIGHT
BEGIN:STANDARD
TZOFFSETFROM:+0200
TZOFFSETTO:+0100
TZNAME:CET
DTSTART:20211031T010000
END:STANDARD
BEGIN:DAYLIGHT
TZOFFSETFROM:+0100
TZOFFSETTO:+0200
TZNAME:CEST
DTSTART:20220327T010000
END:DAYLIGHT
BEGIN:STANDARD
TZOFFSETFROM:+0200
TZOFFSETTO:+0100
TZNAME:CET
DTSTART:20221030T010000
END:STANDARD
BEGIN:DAYLIGHT
TZOFFSETFROM:+0100
TZOFFSETTO:+0200
TZNAME:CEST
DTSTART:20230326T010000
END:DAYLIGHT
BEGIN:STANDARD
TZOFFSETFROM:+0200
TZOFFSETTO:+0100
TZNAME:CET
DTSTART:20231029T010000
END:STANDARD
END:VTIMEZONE
BEGIN:VEVENT
DTSTART;TZID=Europe/Vienna:20220706T200000
DTEND;TZID=Europe/Vienna:20220706T220000
DTSTAMP:20260424T180903
CREATED:20220701T101833Z
LAST-MODIFIED:20220727T113257Z
UID:15584-1657137600-1657144800@www.degrowthvienna.org
SUMMARY:Open Stammtisch Degrowth Vienna
DESCRIPTION:Are you interested in the ideas of degrowth and social-ecological transformation? Would you like to learn more about the Degrowth Vienna collective and how to get involved?\n\nThen join our next Open Stammtisch in the inspiring atmosphere of our new base Kulturzentrum Alte Mensa\, Augasse 2-6.\n\nIf you want to join\, please send us an e-mail or just come by
URL:https://www.degrowthvienna.org/event/open-stammtisch-degrowth-vienna/
LOCATION:Kulturzentrum Alte Mensa\, Augasse 2-6\, Wien\, 1090\, Österreich
END:VEVENT
BEGIN:VEVENT
DTSTART;TZID=Europe/Vienna:20220728T200000
DTEND;TZID=Europe/Vienna:20220728T213000
DTSTAMP:20260424T180903
CREATED:20220720T082256Z
LAST-MODIFIED:20220727T113252Z
UID:15782-1659038400-1659043800@www.degrowthvienna.org
SUMMARY:Degrowth Vienna bei BLICK NACH VORN // Postponed
DESCRIPTION:BLICK NACH VORN N°2\nPostwachstum. Strategien. Wirtschaftskreisläufe. \nAm Donnerstag den 28. Juli 2022 lädt das SDC – Sustainable Design Center zur hybriden Veranstaltung BLICK NACH VORN ein. Zu Gast ist diesmal Livia Regen von Degrowth Vienna mit der Thematik: Degrowth – eine Alternative zur Dystopie des Grünen Wachstums. \nDegrowth Vienna verbindet Forschung und Aktivismus und macht sich anhand verschiedener Aktivitäten für ein sozial-ökologisch gerechtes Gesellschaftssystem. 2020 hat der Verein die digitale Konferenz „Degrowth Vienna 2020 – Strategies for Social-Ecological Transformation“ organisiert. \nZoom Direktlink (Meeting-ID: 983 5103 1937; Kenncode: 236400)\nVor Ort: @Rampe Haus der Materialisierung; Berolinastraße\, 10178 Berlin\nTeilnahme: Spendenbasis
URL:https://www.degrowthvienna.org/event/degrowth-vienna-bei-blick-nach-vorn/
LOCATION:online\, Österreich
ATTACH;FMTTYPE=image/jpeg:https://www.degrowthvienna.org/wp-content/uploads/2022/07/Blick-nach-Vorn_Quer_02.jpg
END:VEVENT
END:VCALENDAR