BEGIN:VCALENDAR
VERSION:2.0
PRODID:-//Degrowth Vienna - ECPv6.15.14//NONSGML v1.0//EN
CALSCALE:GREGORIAN
METHOD:PUBLISH
X-WR-CALNAME:Degrowth Vienna
X-ORIGINAL-URL:https://www.degrowthvienna.org
X-WR-CALDESC:Veranstaltungen für Degrowth Vienna
REFRESH-INTERVAL;VALUE=DURATION:PT1H
X-Robots-Tag:noindex
X-PUBLISHED-TTL:PT1H
BEGIN:VTIMEZONE
TZID:Europe/Vienna
BEGIN:DAYLIGHT
TZOFFSETFROM:+0100
TZOFFSETTO:+0200
TZNAME:CEST
DTSTART:20220327T010000
END:DAYLIGHT
BEGIN:STANDARD
TZOFFSETFROM:+0200
TZOFFSETTO:+0100
TZNAME:CET
DTSTART:20221030T010000
END:STANDARD
BEGIN:DAYLIGHT
TZOFFSETFROM:+0100
TZOFFSETTO:+0200
TZNAME:CEST
DTSTART:20230326T010000
END:DAYLIGHT
BEGIN:STANDARD
TZOFFSETFROM:+0200
TZOFFSETTO:+0100
TZNAME:CET
DTSTART:20231029T010000
END:STANDARD
BEGIN:DAYLIGHT
TZOFFSETFROM:+0100
TZOFFSETTO:+0200
TZNAME:CEST
DTSTART:20240331T010000
END:DAYLIGHT
BEGIN:STANDARD
TZOFFSETFROM:+0200
TZOFFSETTO:+0100
TZNAME:CET
DTSTART:20241027T010000
END:STANDARD
END:VTIMEZONE
BEGIN:VEVENT
DTSTART;TZID=Europe/Vienna:20230713T093000
DTEND;TZID=Europe/Vienna:20230716T150000
DTSTAMP:20260419T224946
CREATED:20230517T134506Z
LAST-MODIFIED:20240527T152719Z
UID:16445-1689240600-1689519600@www.degrowthvienna.org
SUMMARY:Degrowth Vienna bei der Sommerakademie der sozialen Bewegungen
DESCRIPTION:Gemeinsam für Gerechtigkeit! 🔥 Mächtig werden gegen Klimakrise und Kapitalismus\nKlima\, Krieg und Krisen – wir kennen die Probleme\, haben die richtigen Analysen und Lösungsvorschläge. Doch wie können wir uns selbst und andere ermächtigen\, um eine gerechte Gesellschaft tatsächlich zu erreichen? Welche Strategien und Bündnisse brauchen wir\, um mächtig genug zu werden? \nDiese Fragen und viel mehr diskutieren wir mit euch auf der ersten Sommerakademie der sozialen Bewegungen\, die Attac mit vielen Partner*innen von 13. bis 16. Juli 2023 in Traiskrichen/NÖ veranstaltet. \nDabei analysieren wir die verschiedenen Strategien und gemeinsamen Stärken sozialer Bewegungen\, holen uns die besten Beispiele aus aktuellen und vergangenen Erfolgen und lassen uns inspirieren\, wie wir die Resignation überwinden und gemeinsam Bewegungsmacht aufbauen können. \nHerz der Sommerakademie ist der inhaltliche Austausch zu fünf Themen-Strängen am 14. Juli und der Strategie-Tag am 15. Juli: \n\nGemeinsam für eine fairsorgende Wirtschaft und Gesellschaft kämpfen (Freitag)\nGemeinsam für eine friedliche und gerechte Zukunft: Ressourcenkonflikte\, Geopolitik und Migration (Freitag)\nMit Demokratie zum sozialen und ökologischen Umbau (Freitag)\nÖkonomische Alphabetisierung – Wirtschaftsbildung (Freitag)\nStrategien und Fähigkeiten zum Aufbau einer gerechten und klimasozialen Gesellschaft (ganzer Samstag)\n\nDabei werden wir in zahlreichen Workshops spannende Themen behandeln\, Kraft und Motivation für unseren Aktivismus tanken – und beim Feiern Spaß und Freude mit alten und neuen Freund*innen haben. \n>> zum Programm \n\n> zur Anmeldung \nweiter Infos \nDegrowth Vienna wird gefördert von der Stadt Wien Kultur \n 
URL:https://www.degrowthvienna.org/event/degrowth-vienna-bei-der-sommerakademie-der-sozialen-bewegungen/
LOCATION:Sport- & Informatik Mittelschule Traiskirchen\, Johann-Wolfgang-Goethe-Straße 4\, Traiskirchen\, 2514\, Österreich
ATTACH;FMTTYPE=image/jpeg:https://www.degrowthvienna.org/wp-content/uploads/2023/05/SOAK_final_web.jpg
END:VEVENT
END:VCALENDAR