BEGIN:VCALENDAR
VERSION:2.0
PRODID:-//Degrowth Vienna - ECPv6.15.14//NONSGML v1.0//EN
CALSCALE:GREGORIAN
METHOD:PUBLISH
X-WR-CALNAME:Degrowth Vienna
X-ORIGINAL-URL:https://www.degrowthvienna.org
X-WR-CALDESC:Veranstaltungen für Degrowth Vienna
REFRESH-INTERVAL;VALUE=DURATION:PT1H
X-Robots-Tag:noindex
X-PUBLISHED-TTL:PT1H
BEGIN:VTIMEZONE
TZID:Europe/Vienna
BEGIN:DAYLIGHT
TZOFFSETFROM:+0100
TZOFFSETTO:+0200
TZNAME:CEST
DTSTART:20220327T010000
END:DAYLIGHT
BEGIN:STANDARD
TZOFFSETFROM:+0200
TZOFFSETTO:+0100
TZNAME:CET
DTSTART:20221030T010000
END:STANDARD
BEGIN:DAYLIGHT
TZOFFSETFROM:+0100
TZOFFSETTO:+0200
TZNAME:CEST
DTSTART:20230326T010000
END:DAYLIGHT
BEGIN:STANDARD
TZOFFSETFROM:+0200
TZOFFSETTO:+0100
TZNAME:CET
DTSTART:20231029T010000
END:STANDARD
BEGIN:DAYLIGHT
TZOFFSETFROM:+0100
TZOFFSETTO:+0200
TZNAME:CEST
DTSTART:20240331T010000
END:DAYLIGHT
BEGIN:STANDARD
TZOFFSETFROM:+0200
TZOFFSETTO:+0100
TZNAME:CET
DTSTART:20241027T010000
END:STANDARD
END:VTIMEZONE
BEGIN:VEVENT
DTSTART;VALUE=DATE:20230604
DTEND;VALUE=DATE:20230612
DTSTAMP:20260420T003621
CREATED:20230419T132257Z
LAST-MODIFIED:20240527T152804Z
UID:16340-1685836800-1686527999@www.degrowthvienna.org
SUMMARY:Degrowth Vienna beim Klimacamp Wien
DESCRIPTION:Das diesjährige Klimacamp findet vom 4. bis 11. Juni 2023 in Lichtenwörth bei Wiener Neustadt statt um die Proteste gegen die geplante “Ostumfahrung” zu unterstützen. Wie jedes Jahr wird es verschiedene Formate umfassen\, um sich auszutauschen\, zu vernetzen und die vorherrschenden unsozialen und klimaschädlichen Strukturen gemeinsam zu hinterfragen. \nWir von Degrowth Vienna werden einen Workshop halten – weitere Details dazu findest du bald hier. \nDegrowth Vienna wird gefördert von der Stadt Wien Kultur
URL:https://www.degrowthvienna.org/event/degrowth-vienna-beim-klimacamp-wien/
LOCATION:Klimacamp Wien\, Lichtenwörth\, Österreich
ATTACH;FMTTYPE=image/jpeg:https://www.degrowthvienna.org/wp-content/uploads/2022/07/Group-photo-summerschool-scaled.jpeg
END:VEVENT
END:VCALENDAR