BEGIN:VCALENDAR
VERSION:2.0
PRODID:-//Degrowth Vienna - ECPv6.15.14//NONSGML v1.0//EN
CALSCALE:GREGORIAN
METHOD:PUBLISH
X-WR-CALNAME:Degrowth Vienna
X-ORIGINAL-URL:https://www.degrowthvienna.org
X-WR-CALDESC:Veranstaltungen für Degrowth Vienna
REFRESH-INTERVAL;VALUE=DURATION:PT1H
X-Robots-Tag:noindex
X-PUBLISHED-TTL:PT1H
BEGIN:VTIMEZONE
TZID:Europe/Vienna
BEGIN:DAYLIGHT
TZOFFSETFROM:+0100
TZOFFSETTO:+0200
TZNAME:CEST
DTSTART:20210328T010000
END:DAYLIGHT
BEGIN:STANDARD
TZOFFSETFROM:+0200
TZOFFSETTO:+0100
TZNAME:CET
DTSTART:20211031T010000
END:STANDARD
BEGIN:DAYLIGHT
TZOFFSETFROM:+0100
TZOFFSETTO:+0200
TZNAME:CEST
DTSTART:20220327T010000
END:DAYLIGHT
BEGIN:STANDARD
TZOFFSETFROM:+0200
TZOFFSETTO:+0100
TZNAME:CET
DTSTART:20221030T010000
END:STANDARD
BEGIN:DAYLIGHT
TZOFFSETFROM:+0100
TZOFFSETTO:+0200
TZNAME:CEST
DTSTART:20230326T010000
END:DAYLIGHT
BEGIN:STANDARD
TZOFFSETFROM:+0200
TZOFFSETTO:+0100
TZNAME:CET
DTSTART:20231029T010000
END:STANDARD
END:VTIMEZONE
BEGIN:VEVENT
DTSTART;TZID=Europe/Vienna:20221122T063000
DTEND;TZID=Europe/Vienna:20221122T210000
DTSTAMP:20260420T121621
CREATED:20221117T175132Z
LAST-MODIFIED:20221117T175132Z
UID:16045-1669098600-1669150800@www.degrowthvienna.org
SUMMARY:Degrowth Vienna Stammtisch
DESCRIPTION:Interested in Degrowth and socio-ecological transformation? Craving for more political discussions about the role of Degrowth and Strategy to overcome power structures and to achieve transformations? \nIf you are interested in all this and want to connect with other people\, join us! Come to our Degrowth Vienna Stammtisch to exchange ideas\, get to know Degrowth Vienna and ways to get involved (there are many!). \nWe will provide drinks and snacks to keep the conversation flowing! Bring your friends! \nPlease let us know if you would like to join: info@degrowthvienna.org \nDirections to the location here.
URL:https://www.degrowthvienna.org/event/degrowth-vienna-stammtisch/
LOCATION:Kulturzentrum Alte Mensa\, Augasse 2-6\, Wien\, 1090\, Österreich
ATTACH;FMTTYPE=image/png:https://www.degrowthvienna.org/wp-content/uploads/2022/11/Schneckentreffen.png
ORGANIZER;CN="Degrowth Vienna":MAILTO:info@degrowthvienna.org
END:VEVENT
END:VCALENDAR