BEGIN:VCALENDAR
VERSION:2.0
PRODID:-//Degrowth Vienna - ECPv6.15.14//NONSGML v1.0//EN
CALSCALE:GREGORIAN
METHOD:PUBLISH
X-ORIGINAL-URL:https://www.degrowthvienna.org
X-WR-CALDESC:Veranstaltungen für Degrowth Vienna
REFRESH-INTERVAL;VALUE=DURATION:PT1H
X-Robots-Tag:noindex
X-PUBLISHED-TTL:PT1H
BEGIN:VTIMEZONE
TZID:Europe/Vienna
BEGIN:DAYLIGHT
TZOFFSETFROM:+0100
TZOFFSETTO:+0200
TZNAME:CEST
DTSTART:20210328T010000
END:DAYLIGHT
BEGIN:STANDARD
TZOFFSETFROM:+0200
TZOFFSETTO:+0100
TZNAME:CET
DTSTART:20211031T010000
END:STANDARD
BEGIN:DAYLIGHT
TZOFFSETFROM:+0100
TZOFFSETTO:+0200
TZNAME:CEST
DTSTART:20220327T010000
END:DAYLIGHT
BEGIN:STANDARD
TZOFFSETFROM:+0200
TZOFFSETTO:+0100
TZNAME:CET
DTSTART:20221030T010000
END:STANDARD
BEGIN:DAYLIGHT
TZOFFSETFROM:+0100
TZOFFSETTO:+0200
TZNAME:CEST
DTSTART:20230326T010000
END:DAYLIGHT
BEGIN:STANDARD
TZOFFSETFROM:+0200
TZOFFSETTO:+0100
TZNAME:CET
DTSTART:20231029T010000
END:STANDARD
END:VTIMEZONE
BEGIN:VEVENT
DTSTART;TZID=Europe/Vienna:20220517T170000
DTEND;TZID=Europe/Vienna:20220517T190000
DTSTAMP:20260424T231453
CREATED:20220427T121659Z
LAST-MODIFIED:20220727T113313Z
UID:15404-1652806800-1652814000@www.degrowthvienna.org
SUMMARY:Welcome Meeting - Join Degrowth Vienna!
DESCRIPTION:Are you interested in the ideas of degrowth? You want to know what Degrowth Vienna is doing and how to get involved? \nAfter organising the big online conference Degrowth Vienna 2020\, new projects have developed like the Solidarische Postwachstumsstadt working group and one for the publication of the „Degrowth & Strategy“ book\, coming out this summer. We are looking forward to welcoming many new faces to our team.  \nThe world we are working towards is based on solidarity\, respect and equality. Hence we strive to implement a non-hierarchical working culture within our organizational team. We want to look out for each other and create an open and welcoming environment for creativity\, alternative ideas and change. If you cannot join this welcome meeting but still are interested\, just let us know: info@degrowthvienna.org \nLocation: Spitalgasse 2\, Universitätscampus Hof 5 (if the weather is bad we will meet at U5 (Universitätsstrasse 5). In case we meet at U5\, we will let you know in advance) \nIf you want to join\, please send us an e-mail: info@degrowthvienna.org\n**Please come tested\, either with a schnelltest from the same day or a PCR done in the 2 days before**“
URL:https://www.degrowthvienna.org/event/welcome-meeting/
ATTACH;FMTTYPE=image/jpeg:https://www.degrowthvienna.org/wp-content/uploads/2020/11/pexels-alison-burrell-205717-1_header_new.jpg
ORGANIZER;CN="Degrowth Vienna":MAILTO:info@degrowthvienna.org
END:VEVENT
END:VCALENDAR